BEGIN:VCALENDAR
VERSION:2.0
PRODID:-//Crossculturepointcook - ECPv4.6.26//NONSGML v1.0//EN
CALSCALE:GREGORIAN
METHOD:PUBLISH
X-WR-CALNAME:Crossculturepointcook
X-ORIGINAL-URL:http://crossculturepointcook.net.au
X-WR-CALDESC:Events for Crossculturepointcook
BEGIN:VEVENT
DTSTART;TZID=UTC+0:20181021T113000
DTEND;TZID=UTC+0:20181021T130000
DTSTAMP:20190301T152623
CREATED:20181004T125947Z
LAST-MODIFIED:20181017T100639Z
UID:2539-1540121400-1540126800@crossculturepointcook.net.au
SUMMARY:Alpha Parenting Teenagers Course
DESCRIPTION:Starts 7 October 11.30am. Cost of the books about $10 each and gold coin donation for simple light lunch during the discussion. \nRegister now \n
URL:http://crossculturepointcook.net.au/events/alpha-parenting-teenagers-course/
LOCATION:At church\, 7 Adelphi boulevard\, Point Cook\, VIC\, 3030\, Australia
CATEGORIES:Alpha Course
ATTACH;FMTTYPE=image/png:http://crossculturepointcook.net.au/wp-content/uploads/2018/10/parenting-teen2.png
END:VEVENT
END:VCALENDAR